Workbook

Sheet Erhvervelse og fornyelse(100)
C1: 616243/09
A3: Beregning af pris på erhvervelse af brugsret til gravsteder. | B3: Felt numre | C3: Indtastningsfelter
A4: (Erhvervelse og fornyelse af gravsteder) | C4: Beregningsfelter
C5: Resultat
A7: Arealangivelse: Kirkegårdens samlede areal i m2 | B7: 101 | C7: 20000 | D7: m2
A8: Areal anvendt til gravsteder (se vejledning) | B8: 102 | C8: 12000 | D8: m2
A10: Lønudgifter: Samlede lønudgifter | B10: 103 | C10: 1350000 | D10: Kr.
A11: Lønudgifter til generel drift & vedligeholdelse af fællesarealer.(Eksempelvis til 1/3 af de samlede lønudgifter) | B11: 104 | C11: =C10/3 -> 450000 | D11: Kr.
A13: Driftsudgifter: Totale driftsudgifter. Forbrugsmaterialer, maskiner, bygningsvedligeholdelse, minus køb til videresalg | B13: 105 | C13: 300000 | D13: Kr.
A14: Driftsudgifter vedr. fællesarealer. (Eksempelvis til 1/3 af totale driftsudgifter) | B14: 106 | C14: =C13/3 -> 100000 | D14: Kr.
A16: Etableringsudgifter:
A17: Antal år der er afskrevet på anlægsudgiften og bygningen | B17: 107 | C17: 0 | D17: År
A18: Indkøbspris for jord i kr. pr. m2 (Angiv aktuel pris for anskaffelse af jord i lokalområdet) | B18: 108 | C18: 400 | D18: Kr.
A19: Indkøbspris for det samlede kirkegårdsareal. | B19: 109 | C19: =C18*C7 -> 8000000 | D19: Kr.
A20: Anlægsudgifter (Terrænregulering, dræning, kloakering, etablering af gange, beplantning, belysning m.v.). Nyværdi | B20: 110 | C20: 6000000
A21: Bygninger (Til mandskab, administration, maskiner m.v.). Nyværdi | B21: 111 | C21: 4000000 | D21: Kr.
A22: Etableringsudgifter i alt | B22: 112 | C22: =SUM(C19:C21) -> 18000000 | D22: Kr.
A23: Akkumulerede afskrivninger på anlæg og bygninger | B23: 113 | C23: =+(C20+C21)*C17/C28 -> 0 | D23: Kr.
A24: Etableringsudgifter - afskrivninger | B24: 114 | C24: =+C22-C23 -> 18000000 | D24: Kr.
A27: Tidsangivelser:
A28: Holdbarhedstid på kirkegårdsanlæg samt bygninger i år ( Afskrivningsperiode) | B28: 115 | C28: 50 | D28: År
A29: Fredningstid for urnegravsteder | B29: 116 | C29: 10 | D29: År
A30: Fredningstid for kistegravsteder | B30: 117 | C30: 25 | D30: År
A32: Forrentning:
A33: Forrentning: | B33: 118 | C33: 4 | D33: %
A35: Størrelser på gravsteder:
A36: Urnegravsted | B36: 119 | C36: 1 | D36: m2
A37: Enkelt kistegravsted | B37: 120 | C37: 3.25 | D37: m2
A39: Beregninger:
A40: Afskrivning på anlæg og bygninger fordelt på gravstedsareal pr. m2 pr. år | B40: 121 | C40: =(C22-C19)/C8/C28 -> 16.666667 | D40: Kr.
A41: Forrentning af etableringsudgifter fratrukket afskrivninger | B41: 122 | C41: =+C24*(C33/100)/C8 -> 60 | D41: Kr.
A42: Lønudgifter til generel drift & vedligeholdelse af fællesarealer fordelt på gravstedsareal pr. m2 pr. år. | B42: 123 | C42: =C11/C8 -> 37.5 | D42: Kr.
A43: Driftsudgifter vedr. fællesarealer fordelt på gravstedsareal pr. m2 pr. år. | B43: 124 | C43: =C14/C8 -> 8.3333333 | D43: Kr.
A44: Samlet udgifter til erhvervelse og fornyelse pr. m2 pr. år | B44: 125 | C44: =SUM(C40:C43) -> 122.5 | D44: Kr.
A49: Pris for urnegravsted på 1,0 m2
A50: Erhvervelse eller fornyelse pr. år | B50: 126 | C50: =C44*C36 -> 122.5 | D50: Kr.
A51: Erhvervelse eller fornyelse i en fredningsperiode | B51: 127 | C51: =C50*C29 -> 1225 | D51: Kr.
A53: Servitutbestemte udgifter (obligatoriske udgifter)
A54: Hækvedligeholdelse i en fredningsperiode (se felt nummer 237) | B54: 128 | C54: ='Hæk(200)'!$C$50*$C$29 -> 820.23644 | D54: Kr.
A55: Evt. renholdelse i en fredningsperiode | B55: 129 | D55: Kr.
...

Sheet Hæk(200)
A1: Omkostningsberegning for vedligeholdelse og klipning af hæk | B1: Felt numre | C1: Indtastningsfelter
C2: Beregningsfelter
C3: Resultat
A5: Udskiftningsfrekvens | B5: 201 | C5: 25 | D5: År
A7: Hækudskiftning pr enkeltgravsted på 3,25 m2 og urnegravsted over 2 m2
A8: Antal ryghækplanter. | B8: 202 | C8: 2 | D8: Stk.
A9: Pris på ryghækplanter pr. stk. | B9: 203 | C9: 60 | D9: Kr.
A10: Antal side- og forhækplanter | B10: 204 | C10: 18 | D10: Stk.
A11: Pris på side- og forhækplanter pr. stk. | B11: 205 | C11: 6 | D11: Kr.
A12: Tidsforbrug | B12: 206 | C12: 1 | D12: Timer
A13: Pris på udskiftning | B13: 207 | C13: ='Timekostprisberegning(300)'!$C$43*C12+C8*C9+C10*C11 -> 512.84194 | D13: Kr.
A14: Pris på udskiftning pr. år | B14: 208 | C14: =C13/$C$5 -> 20.513678 | D14: Kr.
A15: Hækklipning og oprivning (oprydning)
A16: Tidsforbrug | B16: 209 | C16: 15 | D16: Min
A17: Lønudgift | B17: 210 | C17: ='Timekostprisberegning(300)'!$C$43/60*C16 -> 71.210485 | D17: Kr.
A18: Samlet udgift for hæk pr. år for enkeltgravsted : | B18: 211 | C18: =C14+C17 -> 91.724163 | D18: Kr.
A19: Moms | B19: 212 | C19: =C18/100*25 -> 22.931041 | D19: Kr.
A20: Samlet udgift for hæk pr. år for enkeltgravsted inkl. moms: | B20: 213 | C20: =C18+C19 -> 114.6552 | D20: Kr.
A22: Hækudskiftning pr dobbeltgravsted på 6,50 m2
A23: Antal ryghækplanter. | B23: 214 | C23: 4 | D23: Stk.
A24: Pris på ryghækplanter pr. stk. | B24: 215 | C24: 60 | D24: Kr.
A25: Antal side- og forhækplanter. | B25: 216 | C25: 24 | D25: Stk.
A26: Pris på side- og forhækplanter pr. stk. | B26: 217 | C26: 6 | D26: Kr.
A27: Tidsforbrug | B27: 218 | C27: 1.5 | D27: Timer
A28: Pris på udskiftning | B28: 219 | C28: ='Timekostprisberegning(300)'!$C$43*C27+C23*C24+C25*C26 -> 811.26291 | D28: Kr.
A29: Pris på udskiftning pr. år | B29: 220 | C29: =C28/$C$5 -> 32.450516 | D29: Kr.
A30: Hækklipning og oprivning (oprydning)
A31: Tidsforbrug | B31: 221 | C31: 22.5 | D31: Min
A32: Lønudgift | B32: 222 | C32: ='Timekostprisberegning(300)'!$C$43/60*C31 -> 106.81573 | D32: Kr.
A33: Samlet udgift for hæk pr. år for dobbeltgravsted: | B33: 223 | C33: =C29+C32 -> 139.26624 | D33: Kr.
A34: Moms | B34: 224 | C34: =C33/100*25 -> 34.816561 | D34: Kr.
A35: Samlet udgift for hæk pr. år for dobbeltgravsted inkl. moms: | B35: 225 | C35: =C33+C34 -> 174.08281 | D35: Kr.
A37: Hækudskiftning pr. urnegravsted fra 0,5 til 2 m2
A38: Antal ryghækplanter | B38: 226 | C38: 2 | D38: Stk.
A39: Pris på ryghækplanter pr. stk. | B39: 227 | C39: 60 | D39: Kr.
A40: Antal side- og forhækplanter | B40: 228 | C40: 8 | D40: Stk.
A41: Pris på side- og forhækplanter pr. stk. | B41: 229 | C41: 15 | D41: Kr.
A42: Tidsforbrug | B42: 230 | C42: 0.75 | D42: Timer
A43: Pris på udskiftning | B43: 231 | C43: ='Timekostprisberegning(300)'!$C$43*C42+C38*C39+C40*C41 -> 453.63146 | D43: Kr.
A44: Pris på udskiftning pr. år | B44: 232 | C44: =C43/$C$5 -> 18.145258 | D44: Kr.
...

Sheet Timekostprisberegning(300)
A1: Timekostprisberegning | B1: Felt numre | C1: Indtastningsfelter
C2: Beregningsfelter
C3: Resultat
A6: Timer pr. år pr. medarbejder:
A7: Årsnormen | B7: 301 | C7: 1924 | D7: Timer | E7: fastlåst
A8: Ferie | B8: 302 | C8: 185 | D8: Timer | E8: fastlåst
A9: Særlige feriedage | B9: 303 | C9: 37 | D9: Timer | E9: fastlåst
A10: Skæve helligdage | B10: 304 | C10: 74 | D10: Timer | E10: fastlåst
A11: Kurser | B11: 305 | C11: 37 | D11: Timer
A12: Sygefravær | B12: 306 | C12: 37 | D12: Timer
A14: Produktive timer pr. medarbejder | B14: 307 | C14: =C7-C8-C9-C10-C11-C12 -> 1554 | D14: Timer
A16: Lønudgifter:
A17: Samlede lønudgifter | B17: 308 | C17: ='Erhvervelse og fornyelse(100)'!C10 -> 1350000 | D17: Kr.
A18: Fuldtidsansatte. Årsværk for alle ansatte på kirkegården (markpersonale, administration, rengøring og ledelse) | B18: 309 | C18: 4.1 | D18: Antal
A20: Gennemsnitsløn pr. år | B20: 310 | C20: =C17/C18 -> 329268.29 | D20: Kr.
A22: Timekostpris pr. produktiv time | B22: 311 | C22: =C20/C14 -> 211.88436 | D22: Kr.
A24: Produktive timer pr. år. Totalt:
A25: Produktive timer pr. år. | B25: 312 | C25: =C14*C18 -> 6371.4 | D25: Timer
A26: Timer til administration | B26: 313 | C26: 1000 | D26: Timer
A28: Rest timer til brug på kirkegården | B28: 314 | C28: =C25-C26 -> 5371.4 | D28: Timer
A30: Øvrige driftsudgifter:
A31: Kirkegårdens samlede areal. Hentes automatisk fra felt 101 | B31: 315 | C31: ='Erhvervelse og fornyelse(100)'!C7 -> 20000 | D31: m2
A32: Areal anvendt til gravsteder. Hentes automatisk fra felt 102 | B32: 316 | C32: ='Erhvervelse og fornyelse(100)'!C8 -> 12000 | D32: m2
A33: Totale driftsudgifter. Forbrugsstoffer, maskiner, bygningsvedligeholdelse samt køb til vidersalg.Fra felt 105 | B33: 317 | C33: ='Erhvervelse og fornyelse(100)'!C13 -> 300000 | D33: Kr.
A35: Øvrige driftsudgifters andel af timekostprisen | B35: 318 | C35: =(C33/(C31/C32))/$C$28 -> 33.510817 | D35: Kr.
A37: Administrationsudgifter:
A38: Timekostpris pr. produktiv time ganget med administrationstimer | B38: 319 | C38: =C26*C22 -> 211884.36 | D38: Kr.
A40: Administrationsudgifters andel af timekostprisen | B40: 320 | C40: =C38/$C$28 -> 39.446766 | D40: Kr.
A42: Samlet timekostpris for kirkegården:
A43: Timekostpris (Produktiv time + driftsandel + administrationsandel) | B43: 321 | C43: =C22+C35+C40 -> 284.84194 | D43: Kr.

Sheet Gravning Kister og urner(400)
A1: Gravning og tilkastning af grave (kister og urner) | B1: Felt numre | C1: Indtastningsfelter
A2: Omkostningsberegning | C2: Beregningsfelter
C3: Resultat
A6: Tidsforbrug ved kistebegravelse:
A7: Rydning og klargøring af gravstedet | B7: 401 | C7: 1 | D7: Timer
A8: Transport af mandskab, gravemaskine og jord samt gravning, afstivning m.v. | B8: 402 | C8: 5 | D8: Timer
A9: Tilstede ved begravelse. 1 mand | B9: 403 | C9: 1 | D9: Timer
A10: Tilkastning samt pyntning af graven. Eksempelvis 2 mand á 2 timer | B10: 404 | C10: 4 | D10: Timer
A11: Efterbehandling og sætning | B11: 405 | C11: 1 | D11: Timer
A12: Kirkegårdens tidsforbrug pr. gravning i alt: | B12: 406 | C12: =SUM(C7:C11) -> 12 | D12: Timer
A14: Leje af entreprenør i kr. ekskl. kirkegårdens tidsforbrug. | B14: 407 | D14: Kr.
A16: Total udgift pr. kistegravning ekskl. lør/søn tillæg. | B16: 409 | C16: ='Timekostprisberegning(300)'!$C$43*C12+C14 -> 3418.1033 | D16: Kr.
A17: Tilskud til folkekirkemedlemmer | B17: 410 | D17: Kr.
A18: Pris for kistenedgravning efter tilskud | B18: 411 | D18: Kr.
A21: Tidsforbrug ved urnenedsættelse:
A22: Klargøring af gravsted samt gravning | B22: 412 | C22: 1.5 | D22: Timer
A23: Nedsætning og tildækning samt pyntning af graven | B23: 413 | C23: 1.5 | D23: Timer
A25: Tidsforbrug i alt | B25: 414 | C25: =SUM(C22:C24) -> 3 | D25: Timer
A27: Total udgift pr. urnenedsættelse. Timekostpris x tidsforbrug | B27: 415 | C27: ='Timekostprisberegning(300)'!$C$43*C25 -> 854.52582 | D27: Kr.
A28: Tilskud til folkekirkemedlemmer | B28: 416 | D28: Kr.
A29: Pris for urnenedsættelse efter tilskud | B29: 417 | D29: Kr.

Sheet Renholdese Kistegrav (500)
A1: Ren og vedligeholdelse af kistegravsteder | B1: Felt numre | C1: Indtastningsfelter
A2: Omkostningsberegning: | C2: Beregningsfelter
C3: Resultat
A5: Tidsforbrug årligt for et enkelt kistegravsted og et urnegravsted over 2 m2.
A6: 1. omgang. Oprydning efter efterår/vinter | B6: 501 | C6: 15 | D6: min.
A7: 2. omgang. Beskæring, kultivering og udlægning af perlesten | B7: 502 | C7: 20 | D7: min.
A8: Almindelige renholdelsesomgange | B8: 503 | C8: 50 | D8: min.
A9: Buketomgange og mindre beskæring. | B9: 504 | C9: 20 | D9: min.
A10: Hækklipning (Bruges kun når det ikke er servitutbestemt) | B10: 505 | C10: 15 | D10: min.
A12: I alt | B12: 506 | C12: =SUM(C6:C11) -> 120 | D12: min.
A14: Tidsforbrug på enkeltgravsted | B14: 507 | C14: =C12/60 -> 2 | D14: Timer
A15: Tidsforbrug på dobbelgravsted. (Forbrug på enkeltgravsted + 1 time) | B15: 508 | C15: =C14+1 -> 3 | D15: Timer
A16: Tidsforbrug for hver enkeltfag, gravstedet bliver forøget yderligere. | B16: 509 | C16: 0.5 | D16: Timer
A19: Omkostningspris for enkeltgravsted. Timer X timekostpris | B19: 510 | C19: ='Timekostprisberegning(300)'!C43*C14 -> 569.68388 | D19: Kr.
A20: Moms | B20: 511 | C20: =C19/100*25 -> 142.42097 | D20: Kr.
A21: Omkostningspris for enkeltgravsted inkl. moms | B21: 512 | C21: =SUM(C19:C20) -> 712.10485 | D21: Kr.
A24: Omkostningspris for dobbeltgravsted. Timer X timekostpris | B24: 513 | C24: ='Timekostprisberegning(300)'!C43*C15 -> 854.52582 | D24: Kr.
A25: Moms | B25: 514 | C25: =C24/100*25 -> 213.63146 | D25: Kr.
A26: Omkostningspris for dobbeltgravsted inkl. moms | B26: 515 | C26: =SUM(C24:C25) -> 1068.1573 | D26: Kr.
A29: Omkostningspris for hver enkeltfag, gravstedet bliver forøget yderligere | B29: 516 | C29: ='Timekostprisberegning(300)'!C43*C16 -> 142.42097 | D29: Kr.
A30: Moms | B30: 517 | C30: =C29/100*25 -> 35.605243 | D30: Kr.
A31: Omkostningspris for hver yderligere enkeltfag inkl.moms | B31: 518 | C31: =SUM(C29:C30) -> 178.02621 | D31: Kr.

Sheet Renholdelse Urnegrav(600)
A1: Ren- og vedligeholdelse af urnegravsteder | B1: Felt numre | C1: Indtastningsfelter
A2: Omkostningsberegning: | C2: Beregningsfelter
C3: Resultat
A5: Tidsforbrug for urnegravsted på 0,5-1,99 m2
A6: 1. omgang. Oprydning efter efterår/vinter | B6: 601 | C6: 10 | D6: min.
A7: 2. omgang. Beskæring, kultivering og udlægning af perlesten | B7: 602 | C7: 10 | D7: min.
A8: Almindelige renholdelsesomgange | B8: 603 | C8: 40 | D8: min.
A9: Buketomgange og mindre beskæring. | B9: 604 | C9: 20 | D9: min.
A10: Hækklipning (Bruges kun når det ikke er servitutbestemt) | B10: 605 | C10: 10 | D10: min.
A12: I alt | B12: 606 | C12: =SUM(C6:C11) -> 90 | D12: min.
A14: Tidsforbrug pr. urnegravsted. | B14: 607 | C14: =C12/60 -> 1.5 | D14: Timer
A17: Omkostningspris for urnegrav 0,5-1,99 m2 (Timer X timekostpris) | B17: 608 | C17: ='Timekostprisberegning(300)'!C43*C14 -> 427.26291 | D17: Kr.
A18: Moms | B18: 609 | C18: =C17/100*25 -> 106.81573 | D18: Kr.
A19: Omkostningspris forurnegrav 0,5-1,99 m2 inkl. moms | B19: 610 | C19: =SUM(C17:C18) -> 534.07864 | D19: Kr.

Sheet Plantning af Stedmoder(700)
A1: Omkostningsberegning for plantning af stedmoder | B1: Felt numre | C1: Indtastningsfelter
C2: Beregningsfelter
C3: Resultat
A6: Antal stedmoder plantet pr. dag pr. mand | B6: 701 | C6: 425 | D6: Stk.
A7: Tidsforbrug | B7: 702 | C7: 7.4 | D7: Timer
A8: Indkøbspris pr. plante | B8: 703 | C8: 2.4 | D8: Kr.
A10: Udgift i alt til plantning (timekostpris x tidsforbrug) | B10: 704 | C10: ='Timekostprisberegning(300)'!C43*C7 -> 2107.8304 | D10: Kr.
A11: Udgift i alt til indkøb (indkøbspris x antal) | B11: 705 | C11: =C6*C8 -> 1020 | D11: Kr.
A13: Udgift i alt | B13: 706 | C13: =SUM(C10:C12) -> 3127.8304 | D13: Kr.
A15: Kostpris pr. plantet stedmoder (udgift i alt / antal) | B15: 707 | C15: =C13/C6 -> 7.3596008 | D15: Kr.

Sheet Plantning af begonia(800)
A1: Omkostningsberegning for plantning af begonia | B1: Felt numre | C1: Indtastningsfelter
C2: Beregningsfelter
C3: Resultat
A6: Antal begonia plantet pr. dag pr. mand | B6: 801 | C6: 350 | D6: Stk.
A7: Tidsforbrug. Hentes automatisk fra felt 702 | B7: 802 | C7: ='Plantning af Stedmoder(700)'!C7 -> 7.4 | D7: Timer
A8: Indkøbspris pr. plante | B8: 803 | C8: 2.5 | D8: Kr.
A9: Forbrug af spagnum og gødning | B9: 804 | C9: 200 | D9: Kr.
A11: Udgift i alt til plantning (timekostpris x tidsforbrug) | B11: 805 | C11: ='Timekostprisberegning(300)'!C43*C7 -> 2107.8304 | D11: Kr.
A12: Udgift i alt til indkøb. Planter, spagnum og gødning (indkøbspris x antal + spagnum) | B12: 806 | C12: =(C6*C8)+C9 -> 1075 | D12: Kr.
A14: Udgift i alt | B14: 807 | C14: =SUM(C11:C13) -> 3182.8304 | D14: Kr.
A16: Kostpris pr. plantet begonia (udgift i alt / antal) | B16: 808 | C16: =C14/C6 -> 9.093801 | D16: Kr.

Sheet Gran kistegrav(900)
A1: Omkostningsberegning for granpålægning | B1: Felt numre | C1: Indtastningsfelter
A2: Kistegrave | C2: Beregningsfelter
C3: Resultat
A5: Materialepriser:
A6: Indkøbspris for nordmannsgran pr. kg. | B6: 901 | C6: 7.95 | D6: Kr.
A7: Indkøbspris for fyr pr. kg. | B7: 902 | C7: 6.45 | D7: Kr.
A8: Indkøbspris for nobilis pr. kg. | B8: 903 | C8: 9.5 | D8: Kr.
A9: Indkøbspris for andet pyntegrønt pr. kg. | B9: 904 | C9: 14 | D9: Kr.
A12: Granpyntning med flere slags gran:
A13: Forbrug:
A14: Antal enkeltgravsteder pr. dag pr. mand | B14: 905 | C14: 8 | D14: Stk.
A15: Tidsforbrug. Hentes automatisk fra felt 702 | B15: 906 | C15: ='Plantning af Stedmoder(700)'!C7 -> 7.4 | D15: Timer
A16: Forbrug af nordmannsgran pr. enkeltgrav | B16: 907 | C16: 8 | D16: Kg.
A17: Forbrug af fyr pr. enkeltgrav | B17: 908 | C17: 9 | D17: Kg.
A18: Forbrug af nobilis pr. enkeltgrav | B18: 909 | C18: 3 | D18: Kg.
A19: Forbrug af andet pyntegrønt pr. enkeltgrav | B19: 910 | C19: 1 | D19: Kg.
A20: Diverse: Affald m.m. pr. dag | B20: 911 | C20: 120 | D20: Kr.
A23: Udgift til løn i alt (timekostpris x tidsforbrug) | B23: 912 | C23: ='Timekostprisberegning(300)'!C43*C15 -> 2107.8304 | D23: Kr.
A24: Udgift til forbrugte materialer (antal grave x pris på forbrug) + diverse | B24: 913 | C24: =(((C16*C6)+(C17*C7)+(C18*C8)+(C19*C9))*C14)+C20 -> 1433.2 | D24: Kr.
A26: I alt pr. dag | B26: 914 | C26: =SUM(C23:C25) -> 3541.0304 | D26: Kr.
A28: Kostpris for granpyntning pr. enkeltgrav (I alt/ Antal gravsteder pr. dag pr. mand) | B28: 915 | C28: =C26/C14 -> 442.6288 | D28: Kr.
A31: Grandækning med en slags gran:
A32: Forbrug:
A33: Antal enkeltgravsteder pr. dag pr. mand | B33: 916 | C33: 13 | D33: Stk.
A34: Tidsforbrug. Hentes automatisk fra felt 702 | B34: 917 | C34: ='Plantning af Stedmoder(700)'!C7 -> 7.4 | D34: Timer
A35: Forbrug af nordmannsgran pr. enkeltgrav | B35: 918 | C35: 10 | D35: Kg.
A36: Diverse: Affald m.m. pr. dag | B36: 919 | C36: 130 | D36: Kr.
A38: Udgift til løn i alt (timekostpris x tidsforbrug) | B38: 920 | C38: ='Timekostprisberegning(300)'!C43*C34 -> 2107.8304 | D38: Kr.
A39: Udgift til forbrugte materialer (antal grave x pris på forbrug) + diverse | B39: 921 | C39: =((C35*C6)*C33)+C36 -> 1163.5 | D39: Kr.
A41: I alt pr. dag | B41: 922 | C41: =SUM(C38:C39) -> 3271.3304 | D41: Kr.
A43: Kostpris for grandækning pr. enkeltgrav (I alt / Antal gravsteder pr. dag pr. mand.) | B43: 923 | C43: =C41/C33 -> 251.6408 | D43: Kr.

Sheet Gran urnegrav(1000)
A1: Omkostningsberegning for granpålægning | B1: Felt numre | C1: Indtastningsfelter
A2: Urnegrave (fra 0,5 til 1,99 m2) | C2: Beregningsfelter
C3: Resultat
A5: Materialepriser:
A6: Indkøbsprisris for nordmannsgran pr. kg. Hentes automatisk fra felt 901 | B6: 1001 | C6: ='Gran kistegrav(900)'!C6 -> 7.95 | D6: Kr.
A7: Indkøbspris for fyr pr. kg. Hentes automatisk fra felt 902 | B7: 1002 | C7: ='Gran kistegrav(900)'!C7 -> 6.45 | D7: Kr.
A8: Indkøbspris for nobilis pr. kg. Hentes automatisk fra felt 903 | B8: 1003 | C8: ='Gran kistegrav(900)'!C8 -> 9.5 | D8: Kr.
A9: Indkøbspris for andet pyntegrønt pr. kg. Hentes fra felt 904 | B9: 1004 | C9: ='Gran kistegrav(900)'!C9 -> 14 | D9: Kr.
A12: Granpyntning med flere slags gran.
A13: Forbrug:
A14: Antal urnegravsteder pr. dag pr. mand. | B14: 1005 | C14: 10 | D14: Stk.
A15: Tidsforbrug.Hentes automatisk fra felt 702 | B15: 1006 | C15: ='Plantning af Stedmoder(700)'!C7 -> 7.4 | D15: Timer
A16: Forbrug af nordmannsgran pr. gravsted. | B16: 1007 | C16: 5 | D16: Kg.
A17: Forbrug af fyr pr. gravsted. | B17: 1008 | C17: 5 | D17: Kg.
A18: Forbrug af nobilis pr. gravsted. | B18: 1009 | C18: 2 | D18: Kg.
A19: Forbrug af andet pyntegrønt pr. gravsted. | B19: 1010 | C19: 0.25 | D19: Kg.
A20: Diverse: Affald m.m. pr. dag. | B20: 1011 | C20: 120 | D20: Kr.
A23: Udgift til løn i alt (timekostpris x tidsforbrug) | B23: 1012 | C23: ='Timekostprisberegning(300)'!C43*C15 -> 2107.8304 | D23: Kr.
A24: Udgift til forbrugte materialer (antal grave x pris på forbrug) + diverse | B24: 1013 | C24: =(((C16*C6)+(C17*C7)+(C18*C8)+(C19*C9))*C14)+C20 -> 1065 | D24: Kr.
A26: I alt pr. dag. | B26: 1014 | C26: =SUM(C23:C25) -> 3172.8304 | D26: Kr.
A28: Kostpris for granpyntning pr. urnegravsted (I alt/Antal gravsteder pr. dag pr. mand) | B28: 1015 | C28: =C26/C14 -> 317.28304 | D28: Kr.
A31: Grandækning med en slags gran.
A32: Forbrug:
A33: Antal urnegravsteder pr. dag pr. mand. | B33: 1016 | C33: 15 | D33: Stk.
A34: Tidsforbrug. Hentes automatisk fra felt 702 | B34: 1017 | C34: ='Plantning af Stedmoder(700)'!C7 -> 7.4 | D34: Timer
A35: Forbrug af nordmannsgran pr. gravsted. | B35: 1018 | C35: 6 | D35: Kg.
A36: Diverse: Affald m.m. pr. dag. | B36: 1019 | C36: 130 | D36: Kr.
A38: Udgift til løn i alt (timekostpris x tidsforbrug) | B38: 1020 | C38: ='Timekostprisberegning(300)'!C43*C34 -> 2107.8304 | D38: Kr.
A39: Udgift til forbrugte materialer (antal grave x pris på forbrug) + diverse | B39: 1021 | C39: =((C35*C6)*C33)+C36 -> 845.5 | D39: Kr.
A41: I alt pr. dag | B41: 1022 | C41: =SUM(C38:C39) -> 2953.3304 | D41: Kr.
A43: Kostpris for granækning pr. urnegravsted (I alt / Antal gravsteder pr. dag pr. mand) | B43: 2023 | C43: =C41/C33 -> 196.88869 | D43: Kr.
